BEGIN:VCALENDAR
VERSION:2.0
PRODID:-//wp-events-plugin.com//7.2.3.1//EN
TZID:America/Chicago
X-WR-TIMEZONE:America/Chicago
BEGIN:VEVENT
UID:1597@bsatroop120.com
DTSTART;TZID=America/Chicago;VALUE=DATE:20251226
DTEND;TZID=America/Chicago;VALUE=DATE:20260101
DTSTAMP:20251130T052827Z
URL:http://bsatroop120.com/events/winter-camp-2025/
SUMMARY:Winter camp 2025
DESCRIPTION:Winter camp is being held at camp strake and late fees start 12
 /2. Payment will end on 12/15. We hope all scouts have a great time and ge
 t as many merit badges completed as they can.\n\n&nbsp\;
LOCATION:campstrake\, 2020 Camp Strake Rd\, Coldspring\, Texas\, 77331\, Un
 ited States
X-APPLE-STRUCTURED-LOCATION;VALUE=URI;X-ADDRESS=2020 Camp Strake Rd\, Colds
 pring\, Texas\, 77331\, United States;X-APPLE-RADIUS=100;X-TITLE=campstrak
 e:geo:0,0
END:VEVENT
BEGIN:VTIMEZONE
TZID:America/Chicago
X-LIC-LOCATION:America/Chicago
BEGIN:STANDARD
DTSTART:20251102T010000
TZOFFSETFROM:-0500
TZOFFSETTO:-0600
TZNAME:CST
END:STANDARD
END:VTIMEZONE
END:VCALENDAR