BEGIN:VCALENDAR
VERSION:2.0
PRODID:-//wp-events-plugin.com//7.2.3.1//EN
TZID:America/Chicago
X-WR-TIMEZONE:America/Chicago
BEGIN:VEVENT
UID:395@bsatroop120.com
DTSTART;TZID=America/Chicago:20180905T184500
DTEND;TZID=America/Chicago:20180905T201500
DTSTAMP:20180902T213004Z
URL:http://bsatroop120.com/events/wilson-elem-pack-rally/
SUMMARY:Wilson Elem Pack Rally
DESCRIPTION:Pack1135 Rally and sign up for Cubs.\n  
CATEGORIES:Special Events
LOCATION:Wilson Elementary\, 18015 Kieth Harrow Blvd\, Houston\, TX\, 77084
 \, United States
GEO:29.84743539999999;-95.67661479999998
X-APPLE-STRUCTURED-LOCATION;VALUE=URI;X-ADDRESS=18015 Kieth Harrow Blvd\, H
 ouston\, TX\, 77084\, United States;X-APPLE-RADIUS=100;X-TITLE=Wilson Elem
 entary:geo:29.84743539999999,-95.67661479999998
END:VEVENT
BEGIN:VTIMEZONE
TZID:America/Chicago
X-LIC-LOCATION:America/Chicago
BEGIN:DAYLIGHT
DTSTART:20180311T030000
TZOFFSETFROM:-0600
TZOFFSETTO:-0500
TZNAME:CDT
END:DAYLIGHT
END:VTIMEZONE
END:VCALENDAR