BEGIN:VCALENDAR
VERSION:2.0
PRODID:-//wp-events-plugin.com//7.2.3.1//EN
TZID:America/Chicago
X-WR-TIMEZONE:America/Chicago
BEGIN:VEVENT
UID:546@bsatroop120.com
DTSTART;TZID=America/Chicago:20210824T190000
DTEND;TZID=America/Chicago:20210824T201500
DTSTAMP:20210823T025817Z
URL:http://bsatroop120.com/events/weekly-troop-meeting-75/
SUMMARY:Weekly Troop Meeting
DESCRIPTION:Welcome back to school and scouts.\n\nNormal meetings begin at 
 7:00 pm - 8:15 pm\, upstairs in the annex at Deerfield Village.\n\n4045 De
 erfield Village Dr. Houston Tx. 77084\n\n&nbsp\;
CATEGORIES:Weekly Troop Meetings
LOCATION:Deerfield Rec. Center\, 4045 Deerfield Village Drive\, Houston\, T
 X\, 77084\, United States
X-APPLE-STRUCTURED-LOCATION;VALUE=URI;X-ADDRESS=4045 Deerfield Village Driv
 e\, Houston\, TX\, 77084\, United States;X-APPLE-RADIUS=100;X-TITLE=Deerfi
 eld Rec. Center:geo:0,0
END:VEVENT
BEGIN:VTIMEZONE
TZID:America/Chicago
X-LIC-LOCATION:America/Chicago
BEGIN:DAYLIGHT
DTSTART:20210314T030000
TZOFFSETFROM:-0600
TZOFFSETTO:-0500
TZNAME:CDT
END:DAYLIGHT
END:VTIMEZONE
END:VCALENDAR