BEGIN:VCALENDAR
VERSION:2.0
PRODID:-//wp-events-plugin.com//7.2.3.1//EN
TZID:America/Chicago
X-WR-TIMEZONE:America/Chicago
BEGIN:VEVENT
UID:321@bsatroop120.com
DTSTART;TZID=America/Chicago:20170516T190000
DTEND;TZID=America/Chicago:20170516T200000
DTSTAMP:20170427T022947Z
URL:http://bsatroop120.com/events/weekly-troop-meeting-35/
SUMMARY:Court Of Honor
DESCRIPTION:FINISH any open requirements by May 11th.\n\nPlease Bring a Des
 sert to add in our Festivities.\nFriends Of Scouting will also be on hand 
 for their annual presentation.
CATEGORIES:Special Events,Weekly Troop Meetings
LOCATION:Wilson Elementary\, 18015 Kieth Harrow Blvd\, Houston\, TX\, 77084
 \, United States
GEO:29.84743539999999;-95.67661479999998
X-APPLE-STRUCTURED-LOCATION;VALUE=URI;X-ADDRESS=18015 Kieth Harrow Blvd\, H
 ouston\, TX\, 77084\, United States;X-APPLE-RADIUS=100;X-TITLE=Wilson Elem
 entary:geo:29.84743539999999,-95.67661479999998
END:VEVENT
BEGIN:VTIMEZONE
TZID:America/Chicago
X-LIC-LOCATION:America/Chicago
BEGIN:DAYLIGHT
DTSTART:20170312T030000
TZOFFSETFROM:-0600
TZOFFSETTO:-0500
TZNAME:CDT
END:DAYLIGHT
END:VTIMEZONE
END:VCALENDAR