BEGIN:VCALENDAR
VERSION:2.0
PRODID:-//wp-events-plugin.com//7.2.3.1//EN
TZID:America/Chicago
X-WR-TIMEZONE:America/Chicago
BEGIN:VEVENT
UID:436@bsatroop120.com
DTSTART;TZID=America/Chicago;VALUE=DATE:20181102
DTEND;TZID=America/Chicago;VALUE=DATE:20181105
DTSTAMP:20181103T112934Z
URL:http://bsatroop120.com/events/w-o-w-world-of-webelos/
SUMMARY:W.O.W. (World of Webelos)
DESCRIPTION:\n\n&nbsp\;\n\n&nbsp\;\n\n&nbsp\;\n\n&nbsp\;\n\n&nbsp\;\n\n&nbs
 p\;\n\n&nbsp\;\n\n&nbsp\;\n\nMore information at: www.copperhead.shac.org/
 world-of-webelos\n\n[eyesonly level="administrator\, adult_leader"]\nView 
 this booking\n[/eyesonly]
CATEGORIES:Special Events
LOCATION:Camp Brosig\, 1893 Trenchman Rd\, Sealy\, TX\, 77474\, United Stat
 es
GEO:29.8575378;-96.2036134
X-APPLE-STRUCTURED-LOCATION;VALUE=URI;X-ADDRESS=1893 Trenchman Rd\, Sealy\,
  TX\, 77474\, United States;X-APPLE-RADIUS=100;X-TITLE=Camp Brosig:geo:29.
 8575378,-96.2036134
END:VEVENT
BEGIN:VTIMEZONE
TZID:America/Chicago
X-LIC-LOCATION:America/Chicago
BEGIN:DAYLIGHT
DTSTART:20180311T030000
TZOFFSETFROM:-0600
TZOFFSETTO:-0500
TZNAME:CDT
END:DAYLIGHT
BEGIN:STANDARD
DTSTART:20181104T010000
TZOFFSETFROM:-0500
TZOFFSETTO:-0600
TZNAME:CST
END:STANDARD
END:VTIMEZONE
END:VCALENDAR