BEGIN:VCALENDAR
VERSION:2.0
PRODID:-//wp-events-plugin.com//7.2.3.1//EN
TZID:America/Chicago
X-WR-TIMEZONE:America/Chicago
BEGIN:VEVENT
UID:386@bsatroop120.com
DTSTART;TZID=America/Chicago;VALUE=DATE:20171110
DTEND;TZID=America/Chicago;VALUE=DATE:20171113
DTSTAMP:20171011T165955Z
URL:http://bsatroop120.com/events/w-o-w-2/
SUMMARY:W.O.W.
DESCRIPTION:WORLD OF WEBELOS\nCome out and show the Cub Scouts what Boy Sco
 uts can do! \n\nA weekend of challenges and all round good fun.  Visit o
 ur troop and plan to join in our adventures.
CATEGORIES:Monthly Campouts
LOCATION:Camp Brosig\, 1893 Trenchman Rd\, Sealy\, TX\, 77474\, United Stat
 es
GEO:29.8575378;-96.2036134
X-APPLE-STRUCTURED-LOCATION;VALUE=URI;X-ADDRESS=1893 Trenchman Rd\, Sealy\,
  TX\, 77474\, United States;X-APPLE-RADIUS=100;X-TITLE=Camp Brosig:geo:29.
 8575378,-96.2036134
END:VEVENT
BEGIN:VTIMEZONE
TZID:America/Chicago
X-LIC-LOCATION:America/Chicago
BEGIN:STANDARD
DTSTART:20171105T010000
TZOFFSETFROM:-0500
TZOFFSETTO:-0600
TZNAME:CST
END:STANDARD
END:VTIMEZONE
END:VCALENDAR