BEGIN:VCALENDAR
VERSION:2.0
PRODID:-//wp-events-plugin.com//7.2.3.1//EN
TZID:America/Chicago
X-WR-TIMEZONE:America/Chicago
BEGIN:VEVENT
UID:549@bsatroop120.com
DTSTART;TZID=America/Chicago;VALUE=DATE:20211022
DTEND;TZID=America/Chicago;VALUE=DATE:20211025
DTSTAMP:20211004T220302Z
URL:http://bsatroop120.com/events/uncle-earls-campout/
SUMMARY:Uncle Earls Campout
DESCRIPTION:October 22 – 24\, 2021 Uncle Earls(Fishing and Rifle Shooting
 )\n\n&nbsp\;
CATEGORIES:Monthly Campouts
LOCATION:Uncle Earls\, 18716 FM 531\, Halletsville\, Texas\, 77964\, United
  States
GEO:29.2790831;-96.9212301
X-APPLE-STRUCTURED-LOCATION;VALUE=URI;X-ADDRESS=18716 FM 531\, Halletsville
 \, Texas\, 77964\, United States;X-APPLE-RADIUS=100;X-TITLE=Uncle Earls:ge
 o:29.2790831,-96.9212301
END:VEVENT
BEGIN:VTIMEZONE
TZID:America/Chicago
X-LIC-LOCATION:America/Chicago
BEGIN:DAYLIGHT
DTSTART:20210314T030000
TZOFFSETFROM:-0600
TZOFFSETTO:-0500
TZNAME:CDT
END:DAYLIGHT
END:VTIMEZONE
END:VCALENDAR