BEGIN:VCALENDAR
VERSION:2.0
PRODID:-//wp-events-plugin.com//7.2.3.1//EN
TZID:America/Chicago
X-WR-TIMEZONE:America/Chicago
BEGIN:VEVENT
UID:1589@bsatroop120.com
DTSTART;TZID=America/Chicago;VALUE=DATE:20251010
DTEND;TZID=America/Chicago;VALUE=DATE:20251013
DTSTAMP:20251004T022226Z
URL:http://bsatroop120.com/events/uncle-earls-campout-4/
SUMMARY:Uncle Earls Campout
DESCRIPTION:Fishing time again! We will be going down to Uncle Earls for fi
 shing and spend the night  on his property. The two ponds on the property
  are ready to be fished in. Address for his property is the following: 187
 16 FM 531 - Hallettsville\n\n&nbsp\;\n\n                 
                    \n\n&nbsp\;
CATEGORIES:Monthly Campouts
LOCATION:Uncle Earls\, 18716 FM 531\, Halletsville\, Texas\, 77964\, United
  States
GEO:29.2790831;-96.9212301
X-APPLE-STRUCTURED-LOCATION;VALUE=URI;X-ADDRESS=18716 FM 531\, Halletsville
 \, Texas\, 77964\, United States;X-APPLE-RADIUS=100;X-TITLE=Uncle Earls:ge
 o:29.2790831,-96.9212301
END:VEVENT
BEGIN:VTIMEZONE
TZID:America/Chicago
X-LIC-LOCATION:America/Chicago
BEGIN:DAYLIGHT
DTSTART:20250309T030000
TZOFFSETFROM:-0600
TZOFFSETTO:-0500
TZNAME:CDT
END:DAYLIGHT
END:VTIMEZONE
END:VCALENDAR