BEGIN:VCALENDAR
VERSION:2.0
PRODID:-//wp-events-plugin.com//7.2.3.1//EN
TZID:America/Chicago
X-WR-TIMEZONE:America/Chicago
BEGIN:VEVENT
UID:1570@bsatroop120.com
DTSTART;TZID=America/Chicago;VALUE=DATE:20241018
DTEND;TZID=America/Chicago;VALUE=DATE:20241021
DTSTAMP:20241016T203147Z
URL:http://bsatroop120.com/events/uncle-earls-campout-3/
SUMMARY:Uncle Earls Campout
DESCRIPTION:We will be going down to Uncle Earls for some more fishing. The
  two ponds on the property are ready to be fished in so we will also be do
 ing the fishing merit badge. If you're not into fishing\, we will also hav
 e the archery range setup so we can do the archery merit badge and at camp
 fire\, flag retirement!\n\n&nbsp\;\n\n                  
                   \n\n&nbsp\;
CATEGORIES:Monthly Campouts
END:VEVENT
BEGIN:VTIMEZONE
TZID:America/Chicago
X-LIC-LOCATION:America/Chicago
BEGIN:DAYLIGHT
DTSTART:20240310T030000
TZOFFSETFROM:-0600
TZOFFSETTO:-0500
TZNAME:CDT
END:DAYLIGHT
END:VTIMEZONE
END:VCALENDAR