BEGIN:VCALENDAR
VERSION:2.0
PRODID:-//wp-events-plugin.com//7.2.3.1//EN
TZID:America/Chicago
X-WR-TIMEZONE:America/Chicago
BEGIN:VEVENT
UID:1575@bsatroop120.com
DTSTART;TZID=America/Chicago;VALUE=DATE:20241119
DTEND;TZID=America/Chicago;VALUE=DATE:20241120
DTSTAMP:20241022T022139Z
URL:http://bsatroop120.com/events/troop-meeting-thanksgiving-pot-luck/
SUMMARY:Troop meeting/ Thanksgiving Pot Luck
DESCRIPTION:
END:VEVENT
BEGIN:VTIMEZONE
TZID:America/Chicago
X-LIC-LOCATION:America/Chicago
BEGIN:STANDARD
DTSTART:20241103T010000
TZOFFSETFROM:-0500
TZOFFSETTO:-0600
TZNAME:CST
END:STANDARD
END:VTIMEZONE
END:VCALENDAR