BEGIN:VCALENDAR
VERSION:2.0
PRODID:-//wp-events-plugin.com//7.2.3.1//EN
TZID:America/Chicago
X-WR-TIMEZONE:America/Chicago
BEGIN:VEVENT
UID:656@bsatroop120.com
DTSTART;TZID=America/Chicago:20160308T190000
DTEND;TZID=America/Chicago:20160308T200000
DTSTAMP:20240131T012940Z
URL:http://bsatroop120.com/events/troop-meeting-2-2016-03-08/
SUMMARY:Troop Meeting
DESCRIPTION:
CATEGORIES:Weekly Troop Meetings
END:VEVENT
BEGIN:VTIMEZONE
TZID:America/Chicago
X-LIC-LOCATION:America/Chicago
BEGIN:STANDARD
DTSTART:20151101T010000
TZOFFSETFROM:-0500
TZOFFSETTO:-0600
TZNAME:CST
END:STANDARD
END:VTIMEZONE
END:VCALENDAR