BEGIN:VCALENDAR
VERSION:2.0
PRODID:-//wp-events-plugin.com//7.2.3.1//EN
TZID:America/Chicago
X-WR-TIMEZONE:America/Chicago
BEGIN:VEVENT
UID:635@bsatroop120.com
DTSTART;TZID=America/Chicago:20151013T190000
DTEND;TZID=America/Chicago:20151013T200000
DTSTAMP:20240131T012940Z
URL:http://bsatroop120.com/events/troop-meeting-2-2015-10-13/
SUMMARY:Troop Meeting
DESCRIPTION:
CATEGORIES:Weekly Troop Meetings
END:VEVENT
BEGIN:VTIMEZONE
TZID:America/Chicago
X-LIC-LOCATION:America/Chicago
BEGIN:DAYLIGHT
DTSTART:20150308T030000
TZOFFSETFROM:-0600
TZOFFSETTO:-0500
TZNAME:CDT
END:DAYLIGHT
END:VTIMEZONE
END:VCALENDAR