BEGIN:VCALENDAR
VERSION:2.0
PRODID:-//wp-events-plugin.com//7.2.3.1//EN
TZID:America/Chicago
X-WR-TIMEZONE:America/Chicago
BEGIN:VEVENT
UID:347@bsatroop120.com
DTSTART;TZID=America/Chicago:20170804T183000
DTEND;TZID=America/Chicago:20170805T070000
DTSTAMP:20170804T152042Z
URL:http://bsatroop120.com/events/troop-leadership-lock-in-2/
SUMMARY:Troop Leadership Lock-in
DESCRIPTION:Positions Of Responsibility
CATEGORIES:Special Events
LOCATION:Bear Creek United Methodist Church\, 16000 Rippling Water Dr\,\, H
 ouston\, TX\, 77084\, United States
GEO:29.847583;-95.64194900000001
X-APPLE-STRUCTURED-LOCATION;VALUE=URI;X-ADDRESS=16000 Rippling Water Dr\,\,
  Houston\, TX\, 77084\, United States;X-APPLE-RADIUS=100;X-TITLE=Bear Cree
 k United Methodist Church:geo:29.847583,-95.64194900000001
END:VEVENT
BEGIN:VTIMEZONE
TZID:America/Chicago
X-LIC-LOCATION:America/Chicago
BEGIN:DAYLIGHT
DTSTART:20170312T030000
TZOFFSETFROM:-0600
TZOFFSETTO:-0500
TZNAME:CDT
END:DAYLIGHT
END:VTIMEZONE
END:VCALENDAR