BEGIN:VCALENDAR
VERSION:2.0
PRODID:-//wp-events-plugin.com//7.2.3.1//EN
TZID:America/Chicago
X-WR-TIMEZONE:America/Chicago
BEGIN:VEVENT
UID:273@bsatroop120.com
DTSTART;TZID=America/Chicago:20170801T190000
DTEND;TZID=America/Chicago:20170801T200000
DTSTAMP:20170724T030022Z
URL:http://bsatroop120.com/events/troop-elections/
SUMMARY:Troop Elections
DESCRIPTION:Troop 120\, we are electing your new leadership team\n\nAll sco
 uts Star and above should have their campaign speeches ready for the troop
 .\n\nThe newly elected senior leadership will then be required to fulfill 
 the remainder of the\n\nPositions.\n\nAnyone requiring a leadership positi
 on should request time from the Senior leadership team\n\nAt this time..
LOCATION:Wilson Elementary\, 18015 Keith Harrow\, Houston\, TX\, 77084\, Un
 ited States
GEO:29.8479891;-95.67587449999996
X-APPLE-STRUCTURED-LOCATION;VALUE=URI;X-ADDRESS=18015 Keith Harrow\, Housto
 n\, TX\, 77084\, United States;X-APPLE-RADIUS=100;X-TITLE=Wilson Elementar
 y:geo:29.8479891,-95.67587449999996
END:VEVENT
BEGIN:VTIMEZONE
TZID:America/Chicago
X-LIC-LOCATION:America/Chicago
BEGIN:DAYLIGHT
DTSTART:20170312T030000
TZOFFSETFROM:-0600
TZOFFSETTO:-0500
TZNAME:CDT
END:DAYLIGHT
END:VTIMEZONE
END:VCALENDAR