BEGIN:VCALENDAR
VERSION:2.0
PRODID:-//wp-events-plugin.com//7.2.3.1//EN
TZID:America/Chicago
X-WR-TIMEZONE:America/Chicago
BEGIN:VEVENT
UID:205@bsatroop120.com
DTSTART;TZID=America/Chicago:20160509T190000
DTEND;TZID=America/Chicago:20160509T200000
DTSTAMP:20160218T093047Z
URL:http://bsatroop120.com/events/troop-committee-meeting-2016-05-09/
SUMMARY:Troop Committee Meeting
DESCRIPTION:All adults are welcome.
CATEGORIES:Monthly Committee Meetings
LOCATION:Wilson Elementary\, 18015 Keith Harrow\, Houston\, TX\, 77084\, Un
 ited States
GEO:29.8479891;-95.67587449999996
X-APPLE-STRUCTURED-LOCATION;VALUE=URI;X-ADDRESS=18015 Keith Harrow\, Housto
 n\, TX\, 77084\, United States;X-APPLE-RADIUS=100;X-TITLE=Wilson Elementar
 y:geo:29.8479891,-95.67587449999996
END:VEVENT
BEGIN:VTIMEZONE
TZID:America/Chicago
X-LIC-LOCATION:America/Chicago
BEGIN:DAYLIGHT
DTSTART:20160313T030000
TZOFFSETFROM:-0600
TZOFFSETTO:-0500
TZNAME:CDT
END:DAYLIGHT
END:VTIMEZONE
END:VCALENDAR