BEGIN:VCALENDAR
VERSION:2.0
PRODID:-//wp-events-plugin.com//7.2.3.1//EN
TZID:America/Chicago
X-WR-TIMEZONE:America/Chicago
BEGIN:VEVENT
UID:1584@bsatroop120.com
DTSTART;TZID=America/Chicago:20250902T184500
DTEND;TZID=America/Chicago:20250902T203000
DTSTAMP:20250830T201019Z
URL:http://bsatroop120.com/events/troop-120-meeting-2/
SUMMARY:Troop 120 meeting
DESCRIPTION:Starting September 2nd\, we will start meeting at Wilson elemen
 tary. Scouts coming on this day should drive to the back of the school and
  enter through the cafeteria doors.(same place as the court of honor) We w
 ill be allowed entry at 6:45 pm. However\, we MUST be out by 8:30 pm or we
  will have to pay a fee. Thanks for reading this and hope to see everyone 
 there!
END:VEVENT
BEGIN:VTIMEZONE
TZID:America/Chicago
X-LIC-LOCATION:America/Chicago
BEGIN:DAYLIGHT
DTSTART:20250309T030000
TZOFFSETFROM:-0600
TZOFFSETTO:-0500
TZNAME:CDT
END:DAYLIGHT
END:VTIMEZONE
END:VCALENDAR