BEGIN:VCALENDAR
VERSION:2.0
PRODID:-//wp-events-plugin.com//7.2.3.1//EN
TZID:America/Chicago
X-WR-TIMEZONE:America/Chicago
BEGIN:VEVENT
UID:280@bsatroop120.com
DTSTART;TZID=America/Chicago;VALUE=DATE:20170325
DTEND;TZID=America/Chicago;VALUE=DATE:20170327
DTSTAMP:20170118T020933Z
URL:http://bsatroop120.com/events/texas-independence-relay2/
SUMMARY:Texas Independence Relay
DESCRIPTION:run Texas run\nMust be 14 or older. Register here to indicate 
 your interest.
CATEGORIES:Special Events
END:VEVENT
BEGIN:VTIMEZONE
TZID:America/Chicago
X-LIC-LOCATION:America/Chicago
BEGIN:DAYLIGHT
DTSTART:20170312T030000
TZOFFSETFROM:-0600
TZOFFSETTO:-0500
TZNAME:CDT
END:DAYLIGHT
END:VTIMEZONE
END:VCALENDAR