BEGIN:VCALENDAR
VERSION:2.0
PRODID:-//wp-events-plugin.com//7.2.3.1//EN
TZID:America/Chicago
X-WR-TIMEZONE:America/Chicago
BEGIN:VEVENT
UID:464@bsatroop120.com
DTSTART;TZID=America/Chicago;VALUE=DATE:20200829
DTEND;TZID=America/Chicago;VALUE=DATE:20200830
DTSTAMP:20200905T203641Z
URL:http://bsatroop120.com/events/tellepsen-scout-camp/
SUMMARY:Tellepsen Scout Camp
DESCRIPTION:District Camporee\n\nLeave Deerfield at 9:30AM
CATEGORIES:Monthly Campouts
END:VEVENT
BEGIN:VTIMEZONE
TZID:America/Chicago
X-LIC-LOCATION:America/Chicago
BEGIN:DAYLIGHT
DTSTART:20200308T030000
TZOFFSETFROM:-0600
TZOFFSETTO:-0500
TZNAME:CDT
END:DAYLIGHT
END:VTIMEZONE
END:VCALENDAR