BEGIN:VCALENDAR
VERSION:2.0
PRODID:-//wp-events-plugin.com//7.2.3.1//EN
TZID:America/Chicago
X-WR-TIMEZONE:America/Chicago
BEGIN:VEVENT
UID:455@bsatroop120.com
DTSTART;TZID=America/Chicago;VALUE=DATE:20200606
DTEND;TZID=America/Chicago;VALUE=DATE:20200614
DTSTAMP:20200611T075109Z
URL:http://bsatroop120.com/events/summer-camp/
SUMMARY:Summer Camp !!
DESCRIPTION:Summer Camp At the beautiful Lake Of The Ozarks in central Miss
 ouri.
CATEGORIES:MB Camp
LOCATION:Lake of the Ozarks Scout Reservation\, 525 Camp Hohn Dr\, Gravois 
 Mills\, MO 65037\, Lake of the ozarks\, United States
X-APPLE-STRUCTURED-LOCATION;VALUE=URI;X-ADDRESS=525 Camp Hohn Dr\, Gravois 
 Mills\, MO 65037\, Lake of the ozarks\, United States;X-APPLE-RADIUS=100;X
 -TITLE=Lake of the Ozarks Scout Reservation:geo:0,0
END:VEVENT
BEGIN:VTIMEZONE
TZID:America/Chicago
X-LIC-LOCATION:America/Chicago
BEGIN:DAYLIGHT
DTSTART:20200308T030000
TZOFFSETFROM:-0600
TZOFFSETTO:-0500
TZNAME:CDT
END:DAYLIGHT
END:VTIMEZONE
END:VCALENDAR