BEGIN:VCALENDAR
VERSION:2.0
PRODID:-//wp-events-plugin.com//7.2.3.1//EN
TZID:America/Chicago
X-WR-TIMEZONE:America/Chicago
BEGIN:VEVENT
UID:445@bsatroop120.com
DTSTART;TZID=America/Chicago;VALUE=DATE:20190615
DTEND;TZID=America/Chicago;VALUE=DATE:20190624
DTSTAMP:20190115T203751Z
URL:http://bsatroop120.com/events/summer-camp-2019-wehinahpay-mountain-cam
 p/
SUMMARY:Summer Camp 2019 - Wehinahpay Mountain Camp
DESCRIPTION:At an elevation over 8\,500 feet\, Wehinahpay is located in the
  beautiful Sacramento Mountains of South Central New Mexico. This prime ca
 mping property is on 320 private acres owned by the Conquistador Council B
 SA\, and is surrounded by the Lincoln National Forest. The camp is known f
 or its beautiful wooded campsites\, cool mountain weather\, low humidity\,
  no mosquitoes\, good wholesome food\, a knowledgeable and friendly staff\
 , and the rewarding and exciting program of high mountain camp activities.
   \n\nView Bookings
CATEGORIES:MB Camp,Merit Badge Opportunity
LOCATION:Wehinahpay Mountain Camp\, 319 Potato Canyon Road\, Sacramento\, N
 M\, 88347\, United States
GEO:32.7668635;-105.6638034
X-APPLE-STRUCTURED-LOCATION;VALUE=URI;X-ADDRESS=319 Potato Canyon Road\, Sa
 cramento\, NM\, 88347\, United States;X-APPLE-RADIUS=100;X-TITLE=Wehinahpa
 y Mountain Camp:geo:32.7668635,-105.6638034
END:VEVENT
BEGIN:VTIMEZONE
TZID:America/Chicago
X-LIC-LOCATION:America/Chicago
BEGIN:DAYLIGHT
DTSTART:20190310T030000
TZOFFSETFROM:-0600
TZOFFSETTO:-0500
TZNAME:CDT
END:DAYLIGHT
END:VTIMEZONE
END:VCALENDAR