BEGIN:VCALENDAR
VERSION:2.0
PRODID:-//wp-events-plugin.com//7.2.3.1//EN
TZID:America/Chicago
X-WR-TIMEZONE:America/Chicago
BEGIN:VEVENT
UID:218@bsatroop120.com
DTSTART;TZID=America/Chicago:20160130T090000
DTEND;TZID=America/Chicago:20160130T110000
DTSTAMP:20160130T092850Z
URL:http://bsatroop120.com/events/scouting-for-food/
SUMMARY:Scouting for Food - Distribute
DESCRIPTION:\n[eyesonly level="administrator\, editor"]\nView this booking\
 n[/eyesonly]
LOCATION:Wilson Elementary\, 18015 Keith Harrow\, Houston\, TX\, 77084\, Un
 ited States
GEO:29.8479891;-95.67587449999996
X-APPLE-STRUCTURED-LOCATION;VALUE=URI;X-ADDRESS=18015 Keith Harrow\, Housto
 n\, TX\, 77084\, United States;X-APPLE-RADIUS=100;X-TITLE=Wilson Elementar
 y:geo:29.8479891,-95.67587449999996
END:VEVENT
BEGIN:VTIMEZONE
TZID:America/Chicago
X-LIC-LOCATION:America/Chicago
BEGIN:STANDARD
DTSTART:20151101T010000
TZOFFSETFROM:-0500
TZOFFSETTO:-0600
TZNAME:CST
END:STANDARD
END:VTIMEZONE
END:VCALENDAR