BEGIN:VCALENDAR
VERSION:2.0
PRODID:-//wp-events-plugin.com//7.2.3.1//EN
TZID:America/Chicago
X-WR-TIMEZONE:America/Chicago
BEGIN:VEVENT
UID:545@bsatroop120.com
DTSTART;TZID=America/Chicago:20210206T090000
DTEND;TZID=America/Chicago:20210206T120000
DTSTAMP:20210126T020950Z
URL:http://bsatroop120.com/events/scouting-for-food-drive-3/
SUMMARY:Scouting For Food Drive
DESCRIPTION:Food Pickup Day\n\n\nWe need parents to help drive scouts to pi
 ckup food.\n\nWe will pickup food and sort into categories in the parking 
 lot.\n\nThen take it to the Bear Creek United Methodist Church.\n\nYou can
  stay and help sort some more if you wish.\n\n
CATEGORIES:Special Events
LOCATION:Deerfield Rec. Center\, 4045 Deerfield Village Drive\, Houston\, T
 X\, 77084\, United States
X-APPLE-STRUCTURED-LOCATION;VALUE=URI;X-ADDRESS=4045 Deerfield Village Driv
 e\, Houston\, TX\, 77084\, United States;X-APPLE-RADIUS=100;X-TITLE=Deerfi
 eld Rec. Center:geo:0,0
END:VEVENT
BEGIN:VTIMEZONE
TZID:America/Chicago
X-LIC-LOCATION:America/Chicago
BEGIN:STANDARD
DTSTART:20201101T010000
TZOFFSETFROM:-0500
TZOFFSETTO:-0600
TZNAME:CST
END:STANDARD
END:VTIMEZONE
END:VCALENDAR