BEGIN:VCALENDAR
VERSION:2.0
PRODID:-//wp-events-plugin.com//7.2.3.1//EN
TZID:America/Chicago
X-WR-TIMEZONE:America/Chicago
BEGIN:VEVENT
UID:446@bsatroop120.com
DTSTART;TZID=America/Chicago:20190202T090000
DTEND;TZID=America/Chicago:20190202T120000
DTSTAMP:20190126T032248Z
URL:http://bsatroop120.com/events/scouting-for-food-drive-2/
SUMMARY:Scouting For Food Drive
DESCRIPTION:Food Pickup Day\nJoining us will be Pack 1135.\n\nWe need paren
 ts to help drive 2-3 scouts each vehicle.\n\nWe will pickup food and sort 
 into categories in the parking lot.\n\nThen take it to the Bear Creek Unit
 ed Methodist Church.  You can stay and help sort some more if you wish.
CATEGORIES:Special Events
LOCATION:Deerfield Rec. Center\, 4045 Deerfield Village Drive\, Houston\, T
 X\, 77084\, United States
X-APPLE-STRUCTURED-LOCATION;VALUE=URI;X-ADDRESS=4045 Deerfield Village Driv
 e\, Houston\, TX\, 77084\, United States;X-APPLE-RADIUS=100;X-TITLE=Deerfi
 eld Rec. Center:geo:0,0
END:VEVENT
BEGIN:VTIMEZONE
TZID:America/Chicago
X-LIC-LOCATION:America/Chicago
BEGIN:STANDARD
DTSTART:20181104T010000
TZOFFSETFROM:-0500
TZOFFSETTO:-0600
TZNAME:CST
END:STANDARD
END:VTIMEZONE
END:VCALENDAR