BEGIN:VCALENDAR
VERSION:2.0
PRODID:-//wp-events-plugin.com//7.2.3.1//EN
TZID:America/Chicago
X-WR-TIMEZONE:America/Chicago
BEGIN:VEVENT
UID:467@bsatroop120.com
DTSTART;TZID=America/Chicago;VALUE=DATE:20210515
DTEND;TZID=America/Chicago;VALUE=DATE:20210516
DTSTAMP:20200905T211623Z
URL:http://bsatroop120.com/events/san-marcos-2/
SUMMARY:San Marcos
DESCRIPTION:Day trip\, have fun! Tube float trip and conservation\, remembe
 r to bring money for the floats.\n\nSan Marcos Lions Club Tube Rental\nCit
 y Park\, San Marcos\, TX 78666\nhttps://goo.gl/maps/VuWmJGudmYkr5iov6\n\n\
 n
CATEGORIES:Monthly Campouts
LOCATION:Lions Club\, city park\, san marcos\, tx\, 78666\, United States
GEO:29.88605;-97.93510700000002
X-APPLE-STRUCTURED-LOCATION;VALUE=URI;X-ADDRESS=city park\, san marcos\, tx
 \, 78666\, United States;X-APPLE-RADIUS=100;X-TITLE=Lions Club:geo:29.8860
 5,-97.93510700000002
END:VEVENT
BEGIN:VTIMEZONE
TZID:America/Chicago
X-LIC-LOCATION:America/Chicago
BEGIN:DAYLIGHT
DTSTART:20210314T030000
TZOFFSETFROM:-0600
TZOFFSETTO:-0500
TZNAME:CDT
END:DAYLIGHT
END:VTIMEZONE
END:VCALENDAR