BEGIN:VCALENDAR
VERSION:2.0
PRODID:-//wp-events-plugin.com//7.2.3.1//EN
TZID:America/Chicago
X-WR-TIMEZONE:America/Chicago
BEGIN:VEVENT
UID:1585@bsatroop120.com
DTSTART;TZID=America/Chicago:20250901T150000
DTEND;TZID=America/Chicago:20250901T160000
DTSTAMP:20250830T200853Z
URL:http://bsatroop120.com/events/patrol-leader-meeting/
SUMMARY:Patrol Leader Meeting
DESCRIPTION:PLC this Monday 9/1 at 3pm. It should last about 1 hour and wi
 ll be held at Bahama Bucks 17045 FM 529\, Houston\, TX 77084. We are reque
 sting all patrol leaders\, ASPLs\, and scribe to be present.\n\nPatrol lea
 ders - Aarush N\, Damian K\, Winston P\, Robby H\n\nASPLs - Xavier T\, Ian
  C\n\nScribe - Mason R\n\n&nbsp\;
END:VEVENT
BEGIN:VTIMEZONE
TZID:America/Chicago
X-LIC-LOCATION:America/Chicago
BEGIN:DAYLIGHT
DTSTART:20250309T030000
TZOFFSETFROM:-0600
TZOFFSETTO:-0500
TZNAME:CDT
END:DAYLIGHT
END:VTIMEZONE
END:VCALENDAR