BEGIN:VCALENDAR
VERSION:2.0
PRODID:-//wp-events-plugin.com//7.2.3.1//EN
TZID:America/Chicago
X-WR-TIMEZONE:America/Chicago
BEGIN:VEVENT
UID:627@bsatroop120.com
DTSTART;TZID=America/Chicago;VALUE=DATE:20240216
DTEND;TZID=America/Chicago;VALUE=DATE:20240219
DTSTAMP:20240131T012545Z
URL:http://bsatroop120.com/events/page-giddings-white-thistle-conservation
 -mb-work/
SUMMARY:Page (Giddings) (White Thistle Conservation +MB work
DESCRIPTION:White Thistle Conservation +MB work
END:VEVENT
BEGIN:VTIMEZONE
TZID:America/Chicago
X-LIC-LOCATION:America/Chicago
BEGIN:STANDARD
DTSTART:20231105T010000
TZOFFSETFROM:-0500
TZOFFSETTO:-0600
TZNAME:CST
END:STANDARD
END:VTIMEZONE
END:VCALENDAR