BEGIN:VCALENDAR
VERSION:2.0
PRODID:-//wp-events-plugin.com//7.2.3.1//EN
TZID:America/Chicago
X-WR-TIMEZONE:America/Chicago
BEGIN:VEVENT
UID:392@bsatroop120.com
DTSTART;TZID=America/Chicago:20180512T083000
DTEND;TZID=America/Chicago:20180512T163000
DTSTAMP:20180508T213852Z
URL:http://bsatroop120.com/events/michael-eagle-project/
SUMMARY:Michael Toureilles Eagle Project
DESCRIPTION:Walking Trail Improvement\nWhen: May 12th 8:30 AM – 4:30 PM S
 aturday  &amp\; May 13th at 1 PM – 4 PM on Sunday (if needed)\n\n Whe
 re:  19203 Sky Timbers Ln\, Katy\, TX 77449\n\nI would like to invite you
  to assist with my Eagle project\, this Saturday\, on May12th from 8:30AM 
 until 4:30PM.  The project goal is to help litter by placing 12 trash can
 s around the community trail of MUD 167. The weather looks good for Saturd
 ay\, but you will need sunscreen and a hat.  I will provide pizza for lun
 ch and plenty of liquids to drink.  Below is a picture the of trash cans 
 I plan to build and where they will be placed on the trail.\n\nThank You v
 ery much for your help\,\n\nMichael Toureilles\n\nLife Scout – Troop 120
LOCATION:MUD 167 Community Trail\, 19203 Sky Timbers Ln\, Katy\, TX\, 77084
 \, United States
GEO:29.8480339;-95.70535239999998
X-APPLE-STRUCTURED-LOCATION;VALUE=URI;X-ADDRESS=19203 Sky Timbers Ln\, Katy
 \, TX\, 77084\, United States;X-APPLE-RADIUS=100;X-TITLE=MUD 167 Community
  Trail:geo:29.8480339,-95.70535239999998
END:VEVENT
BEGIN:VTIMEZONE
TZID:America/Chicago
X-LIC-LOCATION:America/Chicago
BEGIN:DAYLIGHT
DTSTART:20180311T030000
TZOFFSETFROM:-0600
TZOFFSETTO:-0500
TZNAME:CDT
END:DAYLIGHT
END:VTIMEZONE
END:VCALENDAR