BEGIN:VCALENDAR
VERSION:2.0
PRODID:-//wp-events-plugin.com//7.2.3.1//EN
TZID:America/Chicago
X-WR-TIMEZONE:America/Chicago
BEGIN:VEVENT
UID:466@bsatroop120.com
DTSTART;TZID=America/Chicago;VALUE=DATE:20210326
DTEND;TZID=America/Chicago;VALUE=DATE:20210329
DTSTAMP:20210316T215806Z
URL:http://bsatroop120.com/events/mertz-ranch/
SUMMARY:Mertz Ranch
DESCRIPTION:Merit Badge Work &amp\; Advancements\n\n
CATEGORIES:Monthly Campouts
LOCATION:Mertz\, 1623 CR 208 Hallettsville\, TX 77964\, Hallettsville\, TX\
 , 77964\, United States
GEO:29.494367;-96.87967
X-APPLE-STRUCTURED-LOCATION;VALUE=URI;X-ADDRESS=1623 CR 208 Hallettsville\,
  TX 77964\, Hallettsville\, TX\, 77964\, United States;X-APPLE-RADIUS=100;
 X-TITLE=Mertz:geo:29.494367,-96.87967
END:VEVENT
BEGIN:VTIMEZONE
TZID:America/Chicago
X-LIC-LOCATION:America/Chicago
BEGIN:DAYLIGHT
DTSTART:20210314T030000
TZOFFSETFROM:-0600
TZOFFSETTO:-0500
TZNAME:CDT
END:DAYLIGHT
END:VTIMEZONE
END:VCALENDAR