BEGIN:VCALENDAR
VERSION:2.0
PRODID:-//wp-events-plugin.com//7.2.3.1//EN
TZID:America/Chicago
X-WR-TIMEZONE:America/Chicago
BEGIN:VEVENT
UID:1580@bsatroop120.com
DTSTART;TZID=America/Chicago:20250411T000000
DTEND;TZID=America/Chicago:20250413T000000
DTSTAMP:20241022T022401Z
URL:http://bsatroop120.com/events/mertz-campout/
SUMMARY:Mertz Campout
DESCRIPTION:We will be going to Mertz ranch to work on the Animal science m
 erit badge
END:VEVENT
BEGIN:VTIMEZONE
TZID:America/Chicago
X-LIC-LOCATION:America/Chicago
BEGIN:DAYLIGHT
DTSTART:20250309T030000
TZOFFSETFROM:-0600
TZOFFSETTO:-0500
TZNAME:CDT
END:DAYLIGHT
END:VTIMEZONE
END:VCALENDAR