BEGIN:VCALENDAR
VERSION:2.0
PRODID:-//wp-events-plugin.com//7.2.3.1//EN
TZID:America/Chicago
X-WR-TIMEZONE:America/Chicago
BEGIN:VEVENT
UID:453@bsatroop120.com
DTSTART;TZID=America/Chicago;VALUE=DATE:20200417
DTEND;TZID=America/Chicago;VALUE=DATE:20200420
DTSTAMP:20200401T090559Z
URL:http://bsatroop120.com/events/martin-dies-state-park/
SUMMARY:Martin Dies State Park - Cancelled
DESCRIPTION:Canoeing in the swamps of martin dies state park wildlife cente
 r.\nDue to the Covid-19 crisis\, this activity has been cancelled.
LOCATION:Martin dies state park\, 634 Park Road 48 South\, Jasper\, TX 7595
 1\, Jasper\, Texas\, United States
X-APPLE-STRUCTURED-LOCATION;VALUE=URI;X-ADDRESS=634 Park Road 48 South\, Ja
 sper\, TX 75951\, Jasper\, Texas\, United States;X-APPLE-RADIUS=100;X-TITL
 E=Martin dies state park:geo:0,0
END:VEVENT
BEGIN:VTIMEZONE
TZID:America/Chicago
X-LIC-LOCATION:America/Chicago
BEGIN:DAYLIGHT
DTSTART:20200308T030000
TZOFFSETFROM:-0600
TZOFFSETTO:-0500
TZNAME:CDT
END:DAYLIGHT
END:VTIMEZONE
END:VCALENDAR