BEGIN:VCALENDAR
VERSION:2.0
PRODID:-//wp-events-plugin.com//7.2.3.1//EN
TZID:America/Chicago
X-WR-TIMEZONE:America/Chicago
BEGIN:VEVENT
UID:439@bsatroop120.com
DTSTART;TZID=America/Chicago:20190315T000000
DTEND;TZID=America/Chicago:20190317T000000
DTSTAMP:20181011T010740Z
URL:http://bsatroop120.com/events/lazy-j/
SUMMARY:Lake George Town
DESCRIPTION:2 and 1/2 day camp have fun!
LOCATION:Lake Georgetown- RUSSELL PARK\, 2101 County Road 262\, Georgetown\
 , Texas\, 78633\, United States
GEO:30.6799719;-97.76026730000001
X-APPLE-STRUCTURED-LOCATION;VALUE=URI;X-ADDRESS=2101 County Road 262\, Geor
 getown\, Texas\, 78633\, United States;X-APPLE-RADIUS=100;X-TITLE=Lake Geo
 rgetown- RUSSELL PARK:geo:30.6799719,-97.76026730000001
END:VEVENT
BEGIN:VTIMEZONE
TZID:America/Chicago
X-LIC-LOCATION:America/Chicago
BEGIN:DAYLIGHT
DTSTART:20190310T030000
TZOFFSETFROM:-0600
TZOFFSETTO:-0500
TZNAME:CDT
END:DAYLIGHT
END:VTIMEZONE
END:VCALENDAR