BEGIN:VCALENDAR
VERSION:2.0
PRODID:-//wp-events-plugin.com//7.2.3.1//EN
TZID:America/Chicago
X-WR-TIMEZONE:America/Chicago
BEGIN:VEVENT
UID:454@bsatroop120.com
DTSTART;TZID=America/Chicago;VALUE=DATE:20200515
DTEND;TZID=America/Chicago;VALUE=DATE:20200518
DTSTAMP:20200308T213904Z
URL:http://bsatroop120.com/events/lazy-j-ranch/
SUMMARY:Lazy J Ranch
DESCRIPTION:Our Newest camping Location.
LOCATION:Lazy J Ranch\, 16406 FM 3\, Normangee\, TX 77871\, Normangee\, Tex
 as \, 77871\, United States
X-APPLE-STRUCTURED-LOCATION;VALUE=URI;X-ADDRESS=16406 FM 3\, Normangee\, TX
  77871\, Normangee\, Texas \, 77871\, United States;X-APPLE-RADIUS=100;X-T
 ITLE=Lazy J Ranch:geo:0,0
END:VEVENT
BEGIN:VTIMEZONE
TZID:America/Chicago
X-LIC-LOCATION:America/Chicago
BEGIN:DAYLIGHT
DTSTART:20200308T030000
TZOFFSETFROM:-0600
TZOFFSETTO:-0500
TZNAME:CDT
END:DAYLIGHT
END:VTIMEZONE
END:VCALENDAR