BEGIN:VCALENDAR
VERSION:2.0
PRODID:-//wp-events-plugin.com//7.2.3.1//EN
TZID:America/Chicago
X-WR-TIMEZONE:America/Chicago
BEGIN:VEVENT
UID:442@bsatroop120.com
DTSTART;TZID=America/Chicago:20190208T170000
DTEND;TZID=America/Chicago:20190210T000000
DTSTAMP:20190205T152738Z
URL:http://bsatroop120.com/events/lazy-j-camp-out/
SUMMARY:Lazy J Campout
DESCRIPTION:Orienteering will be the focus of this campout.  Bring your co
 mpass\, paper and pencil.\n\nOrienteering is a group of sports that requir
 es navigational skills using a map and compass to navigate from point to p
 oint in diverse and usually unfamiliar terrain whilst moving at speed. Par
 ticipants are given a topographical map\, usually a specially prepared ori
 enteering map\, which they use to find control points.\n\n[eyesonly level=
 "administrator\,adult_leader"]\nView all bookings\n[/eyesonly]
CATEGORIES:Monthly Campouts
LOCATION:Normangee\, TX\, 1 main street\, Normangee\, Texas\, United States
GEO:31.029769;-96.1152548
X-APPLE-STRUCTURED-LOCATION;VALUE=URI;X-ADDRESS=1 main street\, Normangee\,
  Texas\, United States;X-APPLE-RADIUS=100;X-TITLE=Normangee\, TX:geo:31.02
 9769,-96.1152548
END:VEVENT
BEGIN:VTIMEZONE
TZID:America/Chicago
X-LIC-LOCATION:America/Chicago
BEGIN:STANDARD
DTSTART:20181104T010000
TZOFFSETFROM:-0500
TZOFFSETTO:-0600
TZNAME:CST
END:STANDARD
END:VTIMEZONE
END:VCALENDAR