BEGIN:VCALENDAR
VERSION:2.0
PRODID:-//wp-events-plugin.com//7.2.3.1//EN
TZID:America/Chicago
X-WR-TIMEZONE:America/Chicago
BEGIN:VEVENT
UID:331@bsatroop120.com
DTSTART;TZID=America/Chicago;VALUE=DATE:20170519
DTEND;TZID=America/Chicago;VALUE=DATE:20170520
DTSTAMP:20170427T024428Z
URL:http://bsatroop120.com/events/lake-fayette/
SUMMARY:Lake Fayette
DESCRIPTION:Water Sports:  we will be using a boat and any adults that are
  able to help spot\, must complete two online safety courses within their 
 my.scouting.org account:  (from your dashboard go to training tab\,)\n\nS
 afety Afloat   &amp\;   Safe Swim Defense\n\n&nbsp\;\n\nLeave from Deerf
 ield at 4:30 sharp!\n\nFor Directions Click here
CATEGORIES:Monthly Campouts
LOCATION:Fayetteville\, 4819 TX-159\, Fayetteville\, Texas\, 78940\, United
  States
GEO:29.9499581;-96.72463399999998
X-APPLE-STRUCTURED-LOCATION;VALUE=URI;X-ADDRESS=4819 TX-159\, Fayetteville\
 , Texas\, 78940\, United States;X-APPLE-RADIUS=100;X-TITLE=Fayetteville:ge
 o:29.9499581,-96.72463399999998
END:VEVENT
BEGIN:VTIMEZONE
TZID:America/Chicago
X-LIC-LOCATION:America/Chicago
BEGIN:DAYLIGHT
DTSTART:20170312T030000
TZOFFSETFROM:-0600
TZOFFSETTO:-0500
TZNAME:CDT
END:DAYLIGHT
END:VTIMEZONE
END:VCALENDAR