BEGIN:VCALENDAR
VERSION:2.0
PRODID:-//wp-events-plugin.com//7.2.3.1//EN
TZID:America/Chicago
X-WR-TIMEZONE:America/Chicago
BEGIN:VEVENT
UID:333@bsatroop120.com
DTSTART;TZID=America/Chicago;VALUE=DATE:20251114
DTEND;TZID=America/Chicago;VALUE=DATE:20251117
DTSTAMP:20251029T000344Z
URL:http://bsatroop120.com/events/inks_lake/
SUMMARY:Inks Lake State Park
DESCRIPTION:Pack your bags and get ready to explore as we go to Inks lake. 
 Fun fact\, its ranked number 10 out of the 89 state parks in Texas. So its
  going to be a blast! Now what we will be doing\, scouts who signed up ahe
 ad of time will be going caving\, so bring your headlamps for sure. Even i
 f you didn't sing up don't sweat it\, because you will be going on somethi
 ng just as hard\, a hike!
CATEGORIES:Monthly Campouts
LOCATION:Inks Lake State Park\, 3630 Park Rd 4 W\, Burnet\, TX\, 78611\, Un
 ited States
GEO:30.7373683;-98.3690229
X-APPLE-STRUCTURED-LOCATION;VALUE=URI;X-ADDRESS=3630 Park Rd 4 W\, Burnet\,
  TX\, 78611\, United States;X-APPLE-RADIUS=100;X-TITLE=Inks Lake State Par
 k:geo:30.7373683,-98.3690229
END:VEVENT
BEGIN:VTIMEZONE
TZID:America/Chicago
X-LIC-LOCATION:America/Chicago
BEGIN:STANDARD
DTSTART:20251102T010000
TZOFFSETFROM:-0500
TZOFFSETTO:-0600
TZNAME:CST
END:STANDARD
END:VTIMEZONE
END:VCALENDAR