BEGIN:VCALENDAR
VERSION:2.0
PRODID:-//wp-events-plugin.com//7.2.3.1//EN
TZID:America/Chicago
X-WR-TIMEZONE:America/Chicago
BEGIN:VEVENT
UID:591@bsatroop120.com
DTSTART;TZID=America/Chicago;VALUE=DATE:20210325
DTEND;TZID=America/Chicago;VALUE=DATE:20210328
DTSTAMP:20211016T161912Z
URL:http://bsatroop120.com/events/inks-lake-state-park/
SUMMARY:Inks Lake State Park
DESCRIPTION:Inks Lake State Park for some fishing and scout skill fun!\n\nL
 eave Deerfield at 4:30PM\n\nFor directions Click here
CATEGORIES:Monthly Campouts
LOCATION:Inks Lake State Park\, 3630 Park Rd 4 W\, Burnet\, TX\, 78611\, Un
 ited States
GEO:30.7373683;-98.3690229
X-APPLE-STRUCTURED-LOCATION;VALUE=URI;X-ADDRESS=3630 Park Rd 4 W\, Burnet\,
  TX\, 78611\, United States;X-APPLE-RADIUS=100;X-TITLE=Inks Lake State Par
 k:geo:30.7373683,-98.3690229
END:VEVENT
BEGIN:VTIMEZONE
TZID:America/Chicago
X-LIC-LOCATION:America/Chicago
BEGIN:DAYLIGHT
DTSTART:20210314T030000
TZOFFSETFROM:-0600
TZOFFSETTO:-0500
TZNAME:CDT
END:DAYLIGHT
END:VTIMEZONE
END:VCALENDAR