BEGIN:VCALENDAR
VERSION:2.0
PRODID:-//wp-events-plugin.com//7.2.3.1//EN
TZID:America/Chicago
X-WR-TIMEZONE:America/Chicago
BEGIN:VEVENT
UID:595@bsatroop120.com
DTSTART;TZID=America/Chicago;VALUE=DATE:20220121
DTEND;TZID=America/Chicago;VALUE=DATE:20220124
DTSTAMP:20220123T040852Z
URL:http://bsatroop120.com/events/grapeland-wilderness-survival/
SUMMARY:Grapeland (Wilderness Survival)
DESCRIPTION:Bring your warm clothes and a hatchet!
CATEGORIES:Monthly Campouts
END:VEVENT
BEGIN:VTIMEZONE
TZID:America/Chicago
X-LIC-LOCATION:America/Chicago
BEGIN:STANDARD
DTSTART:20211107T010000
TZOFFSETFROM:-0500
TZOFFSETTO:-0600
TZNAME:CST
END:STANDARD
END:VTIMEZONE
END:VCALENDAR