BEGIN:VCALENDAR
VERSION:2.0
PRODID:-//wp-events-plugin.com//7.2.3.1//EN
TZID:America/Chicago
X-WR-TIMEZONE:America/Chicago
BEGIN:VEVENT
UID:1572@bsatroop120.com
DTSTART;TZID=America/Chicago;VALUE=DATE:20250117
DTEND;TZID=America/Chicago;VALUE=DATE:20250120
DTSTAMP:20250108T031228Z
URL:http://bsatroop120.com/events/grapeland-campout-7/
SUMMARY:Grapeland Campout
DESCRIPTION:Wilderness Survival! Make your own place to stay the night with
  your team. Scouts will get into groups of 4-6 and design and put together
  their shelter for Saturday night. It will be cold so make sure you get th
 e proper gear to stay warm throughout the night!
END:VEVENT
BEGIN:VTIMEZONE
TZID:America/Chicago
X-LIC-LOCATION:America/Chicago
BEGIN:STANDARD
DTSTART:20241103T010000
TZOFFSETFROM:-0500
TZOFFSETTO:-0600
TZNAME:CST
END:STANDARD
END:VTIMEZONE
END:VCALENDAR