BEGIN:VCALENDAR
VERSION:2.0
PRODID:-//wp-events-plugin.com//7.2.3.1//EN
TZID:America/Chicago
X-WR-TIMEZONE:America/Chicago
BEGIN:VEVENT
UID:462@bsatroop120.com
DTSTART;TZID=America/Chicago;VALUE=DATE:20210108
DTEND;TZID=America/Chicago;VALUE=DATE:20210111
DTSTAMP:20200905T203246Z
URL:http://bsatroop120.com/events/grapeland-campout-4/
SUMMARY:Grapeland Campout
DESCRIPTION:WILDERNESS SURVIVAL\n* Building Survival Shelter\n* Rocket Laun
 ching\n\nAbout 2.45 hours drive\n\nFor directions Click here\n[eyesonly le
 vel="administrator\,adult_leader"]\nView all bookings\n[/eyesonly]
CATEGORIES:Monthly Campouts
LOCATION:Grapeland\, 5841 CR 1620\, Grapeland\, Texas\, 75844\, United Stat
 es
GEO:31.4622276;-95.44444950000002
X-APPLE-STRUCTURED-LOCATION;VALUE=URI;X-ADDRESS=5841 CR 1620\, Grapeland\, 
 Texas\, 75844\, United States;X-APPLE-RADIUS=100;X-TITLE=Grapeland:geo:31.
 4622276,-95.44444950000002
END:VEVENT
BEGIN:VTIMEZONE
TZID:America/Chicago
X-LIC-LOCATION:America/Chicago
BEGIN:STANDARD
DTSTART:20201101T010000
TZOFFSETFROM:-0500
TZOFFSETTO:-0600
TZNAME:CST
END:STANDARD
END:VTIMEZONE
END:VCALENDAR