BEGIN:VCALENDAR
VERSION:2.0
PRODID:-//wp-events-plugin.com//7.2.3.1//EN
TZID:America/Chicago
X-WR-TIMEZONE:America/Chicago
BEGIN:VEVENT
UID:597@bsatroop120.com
DTSTART;TZID=America/Chicago;VALUE=DATE:20220325
DTEND;TZID=America/Chicago;VALUE=DATE:20220328
DTSTAMP:20211210T015319Z
URL:http://bsatroop120.com/events/gammerdingers-service-project-cookout/
SUMMARY:Gammerdinger’s (Service Project – Cookout)
DESCRIPTION:Will be cooking Cornish game hens.
CATEGORIES:Monthly Campouts
LOCATION:Gammerdingers Property\, 868 Paint Creek Rd.\, Mcdade\, Texas\, 78
 650\, United States
GEO:30.283164;-97.17704300000003
X-APPLE-STRUCTURED-LOCATION;VALUE=URI;X-ADDRESS=868 Paint Creek Rd.\, Mcdad
 e\, Texas\, 78650\, United States;X-APPLE-RADIUS=100;X-TITLE=Gammerdingers
  Property:geo:30.283164,-97.17704300000003
END:VEVENT
BEGIN:VTIMEZONE
TZID:America/Chicago
X-LIC-LOCATION:America/Chicago
BEGIN:DAYLIGHT
DTSTART:20220313T030000
TZOFFSETFROM:-0600
TZOFFSETTO:-0500
TZNAME:CDT
END:DAYLIGHT
END:VTIMEZONE
END:VCALENDAR