BEGIN:VCALENDAR
VERSION:2.0
PRODID:-//wp-events-plugin.com//7.2.3.1//EN
TZID:America/Chicago
X-WR-TIMEZONE:America/Chicago
BEGIN:VEVENT
UID:590@bsatroop120.com
DTSTART;TZID=America/Chicago;VALUE=DATE:20210218
DTEND;TZID=America/Chicago;VALUE=DATE:20210222
DTSTAMP:20211016T161802Z
URL:http://bsatroop120.com/events/gammerdingers-4/
SUMMARY:Gammerdingers
DESCRIPTION:Service Project: cookout\n&nbsp\;
CATEGORIES:Monthly Campouts
LOCATION:Gammerdingers Property\, 868 Paint Creek Rd.\, Mcdade\, Texas\, 78
 650\, United States
GEO:30.283164;-97.17704300000003
X-APPLE-STRUCTURED-LOCATION;VALUE=URI;X-ADDRESS=868 Paint Creek Rd.\, Mcdad
 e\, Texas\, 78650\, United States;X-APPLE-RADIUS=100;X-TITLE=Gammerdingers
  Property:geo:30.283164,-97.17704300000003
END:VEVENT
BEGIN:VTIMEZONE
TZID:America/Chicago
X-LIC-LOCATION:America/Chicago
BEGIN:STANDARD
DTSTART:20201101T010000
TZOFFSETFROM:-0500
TZOFFSETTO:-0600
TZNAME:CST
END:STANDARD
END:VTIMEZONE
END:VCALENDAR