BEGIN:VCALENDAR
VERSION:2.0
PRODID:-//wp-events-plugin.com//7.2.3.1//EN
TZID:America/Chicago
X-WR-TIMEZONE:America/Chicago
BEGIN:VEVENT
UID:272@bsatroop120.com
DTSTART;TZID=America/Chicago:20160515T010000
DTEND;TZID=America/Chicago:20160515T150000
DTSTAMP:20160514T132621Z
URL:http://bsatroop120.com/events/family-life/
SUMMARY:Family Life
DESCRIPTION:\n\nThe family is the basic unit of society and is important to
  both individuals and communities. The world is rapidly changing\, making 
 today's society much more complex than ever before. As Scouts earn this me
 rit badge\, they will realize why it is important to know more about famil
 y life and how to strengthen their families.\n\n&nbsp\;\n\nDownload the Wo
 rkbook for this MB here.  Family Life Workbook\n\nFamily Life merit badge
  is required for the Eagle Scout rank.  Must be at least 14 to take this
  class or approved by the Scoutmaster.\n\nCounselor teaching resource
CATEGORIES:Merit Badge Opportunity
LOCATION:Wilson Elementary\, 18015 Keith Harrow\, Houston\, TX\, 77084\, Un
 ited States
GEO:29.8479891;-95.67587449999996
X-APPLE-STRUCTURED-LOCATION;VALUE=URI;X-ADDRESS=18015 Keith Harrow\, Housto
 n\, TX\, 77084\, United States;X-APPLE-RADIUS=100;X-TITLE=Wilson Elementar
 y:geo:29.8479891,-95.67587449999996
END:VEVENT
BEGIN:VTIMEZONE
TZID:America/Chicago
X-LIC-LOCATION:America/Chicago
BEGIN:DAYLIGHT
DTSTART:20160313T030000
TZOFFSETFROM:-0600
TZOFFSETTO:-0500
TZNAME:CDT
END:DAYLIGHT
END:VTIMEZONE
END:VCALENDAR