BEGIN:VCALENDAR
VERSION:2.0
PRODID:-//wp-events-plugin.com//7.2.3.1//EN
TZID:America/Chicago
X-WR-TIMEZONE:America/Chicago
BEGIN:VEVENT
UID:332@bsatroop120.com
DTSTART;TZID=America/Chicago;VALUE=DATE:20170310
DTEND;TZID=America/Chicago;VALUE=DATE:20170313
DTSTAMP:20170221T021524Z
URL:http://bsatroop120.com/events/enchanted-rock/
SUMMARY:Enchanted Rock Campout
DESCRIPTION:Rock Climbing\, hiking and more!!  FYI - Primitive Camping\n\n
 Leave Deerfield at 4:30PM\n\nFor directions Click here\n[eyesonly level="a
 dministrator\,adult_leader"]\nView all bookings\n[/eyesonly]
CATEGORIES:Monthly Campouts
LOCATION:Enchanted Rock\,  16710 Ranch Rd 965\, Fredericksburg\, TX\, 78624
 \, United States
GEO:30.4960306;-98.81996479999998
X-APPLE-STRUCTURED-LOCATION;VALUE=URI;X-ADDRESS= 16710 Ranch Rd 965\, Frede
 ricksburg\, TX\, 78624\, United States;X-APPLE-RADIUS=100;X-TITLE=Enchante
 d Rock:geo:30.4960306,-98.81996479999998
END:VEVENT
BEGIN:VTIMEZONE
TZID:America/Chicago
X-LIC-LOCATION:America/Chicago
BEGIN:STANDARD
DTSTART:20161106T010000
TZOFFSETFROM:-0500
TZOFFSETTO:-0600
TZNAME:CST
END:STANDARD
BEGIN:DAYLIGHT
DTSTART:20170312T030000
TZOFFSETFROM:-0600
TZOFFSETTO:-0500
TZNAME:CDT
END:DAYLIGHT
END:VTIMEZONE
END:VCALENDAR