BEGIN:VCALENDAR
VERSION:2.0
PRODID:-//wp-events-plugin.com//7.2.3.1//EN
TZID:America/Chicago
X-WR-TIMEZONE:America/Chicago
BEGIN:VEVENT
UID:443@bsatroop120.com
DTSTART;TZID=America/Chicago:20181208T180000
DTEND;TZID=America/Chicago:20181208T190000
DTSTAMP:20181130T012641Z
URL:http://bsatroop120.com/events/copperhead-pack-aol-ceremony-crossover/
SUMMARY:Copperhead Pack AOL Ceremony & Crossover
DESCRIPTION:\n\nJoin us in the last Indian style ceremony for BSA sponsored
  by our very own OA members.\n\nMembers of Pack 1135\, 787\, and 1005 will
  be joining our Troop\, so come out to encourage these Cubs on their new j
 ourney down the Scout trail to Eagle. It will be a packed house\, bring yo
 ur chairs &amp\; patience.\n\nBear creek Park Pavilion map
CATEGORIES:OA Event,Special Events
LOCATION:bear creek pioneers park\, 3535 war memorial drive\, houston\, tx\
 , 77084\, United States
GEO:29.8203805;-95.61375350000003
X-APPLE-STRUCTURED-LOCATION;VALUE=URI;X-ADDRESS=3535 war memorial drive\, h
 ouston\, tx\, 77084\, United States;X-APPLE-RADIUS=100;X-TITLE=bear creek 
 pioneers park:geo:29.8203805,-95.61375350000003
END:VEVENT
BEGIN:VTIMEZONE
TZID:America/Chicago
X-LIC-LOCATION:America/Chicago
BEGIN:STANDARD
DTSTART:20181104T010000
TZOFFSETFROM:-0500
TZOFFSETTO:-0600
TZNAME:CST
END:STANDARD
END:VTIMEZONE
END:VCALENDAR