BEGIN:VCALENDAR
VERSION:2.0
PRODID:-//wp-events-plugin.com//7.2.3.1//EN
TZID:America/Chicago
X-WR-TIMEZONE:America/Chicago
BEGIN:VEVENT
UID:1573@bsatroop120.com
DTSTART;TZID=America/Chicago;VALUE=DATE:20241021
DTEND;TZID=America/Chicago;VALUE=DATE:20241022
DTSTAMP:20241022T022117Z
URL:http://bsatroop120.com/events/committe-meeting/
SUMMARY:Committe Meeting
DESCRIPTION:
END:VEVENT
BEGIN:VTIMEZONE
TZID:America/Chicago
X-LIC-LOCATION:America/Chicago
BEGIN:DAYLIGHT
DTSTART:20240310T030000
TZOFFSETFROM:-0600
TZOFFSETTO:-0500
TZNAME:CDT
END:DAYLIGHT
END:VTIMEZONE
END:VCALENDAR