BEGIN:VCALENDAR
VERSION:2.0
PRODID:-//wp-events-plugin.com//7.2.3.1//EN
TZID:America/Chicago
X-WR-TIMEZONE:America/Chicago
BEGIN:VEVENT
UID:234@bsatroop120.com
DTSTART;TZID=America/Chicago:20160306T130000
DTEND;TZID=America/Chicago:20160306T150000
DTSTAMP:20160217T165703Z
URL:http://bsatroop120.com/events/citizenship-of-the-nation-session-1/
SUMMARY:Citizenship of the Nation - Session 1
DESCRIPTION:\n	Eagle required Merit Badge\n\nAs Scouts fulfill the requirem
 ents for this merit badge\, they will learn how to become active citizens 
 are aware of and grateful for their liberties and rights\, to participate 
 in their governments and protect their freedom\, helping to defend their c
 ountry and standing up for individual rights on behalf of all its citizens
 .\n\nDownload Merit Badge worksheet\n\n&nbsp\;\n\n[eyesonly level="adminis
 trator\, adult_leader"]\nView this booking\n[/eyesonly]
CATEGORIES:Merit Badge Opportunity
LOCATION:Wilson Elementary\, 18015 Keith Harrow\, Houston\, TX\, 77084\, Un
 ited States
GEO:29.8479891;-95.67587449999996
X-APPLE-STRUCTURED-LOCATION;VALUE=URI;X-ADDRESS=18015 Keith Harrow\, Housto
 n\, TX\, 77084\, United States;X-APPLE-RADIUS=100;X-TITLE=Wilson Elementar
 y:geo:29.8479891,-95.67587449999996
END:VEVENT
BEGIN:VTIMEZONE
TZID:America/Chicago
X-LIC-LOCATION:America/Chicago
BEGIN:STANDARD
DTSTART:20151101T010000
TZOFFSETFROM:-0500
TZOFFSETTO:-0600
TZNAME:CST
END:STANDARD
END:VTIMEZONE
END:VCALENDAR