BEGIN:VCALENDAR
VERSION:2.0
PRODID:-//wp-events-plugin.com//7.2.3.1//EN
TZID:America/Chicago
X-WR-TIMEZONE:America/Chicago
BEGIN:VEVENT
UID:449@bsatroop120.com
DTSTART;TZID=America/Chicago:20191115T000000
DTEND;TZID=America/Chicago:20191117T000000
DTSTAMP:20190930T012613Z
URL:http://bsatroop120.com/events/canoeing-trip/
SUMMARY:Canoeing Trip
DESCRIPTION:Come Join Us At Martin State Park For Canoeing Adventure.\n\n
CATEGORIES:Monthly Campouts
LOCATION:Martins Dies Jr. State Park\, 634 Park Road 48 South\, Jasper \, T
 exas\, 75951\, United States
GEO:30.849295;-94.168067
X-APPLE-STRUCTURED-LOCATION;VALUE=URI;X-ADDRESS=634 Park Road 48 South\, Ja
 sper \, Texas\, 75951\, United States;X-APPLE-RADIUS=100;X-TITLE=Martins D
 ies Jr. State Park:geo:30.849295,-94.168067
END:VEVENT
BEGIN:VTIMEZONE
TZID:America/Chicago
X-LIC-LOCATION:America/Chicago
BEGIN:STANDARD
DTSTART:20191103T010000
TZOFFSETFROM:-0500
TZOFFSETTO:-0600
TZNAME:CST
END:STANDARD
END:VTIMEZONE
END:VCALENDAR