BEGIN:VCALENDAR
VERSION:2.0
PRODID:-//wp-events-plugin.com//7.2.3.1//EN
TZID:America/Chicago
X-WR-TIMEZONE:America/Chicago
BEGIN:VEVENT
UID:593@bsatroop120.com
DTSTART;TZID=America/Chicago;VALUE=DATE:20211217
DTEND;TZID=America/Chicago;VALUE=DATE:20211220
DTSTAMP:20211016T163017Z
URL:http://bsatroop120.com/events/buescher-state-park/
SUMMARY:Buescher State Park
DESCRIPTION:Buescher State Park for some biking and first aid training.\n\n
 Leave Deerfield at 4:30PM\n\nFor directions Click here
CATEGORIES:Monthly Campouts
LOCATION:Buesher State Park\, 100 Park Rd 1-C\, Smithville \, TX\, 78957\, 
 United States
GEO:30.0391827;-97.15830619999997
X-APPLE-STRUCTURED-LOCATION;VALUE=URI;X-ADDRESS=100 Park Rd 1-C\, Smithvill
 e \, TX\, 78957\, United States;X-APPLE-RADIUS=100;X-TITLE=Buesher State P
 ark:geo:30.0391827,-97.15830619999997
END:VEVENT
BEGIN:VTIMEZONE
TZID:America/Chicago
X-LIC-LOCATION:America/Chicago
BEGIN:STANDARD
DTSTART:20211107T010000
TZOFFSETFROM:-0500
TZOFFSETTO:-0600
TZNAME:CST
END:STANDARD
END:VTIMEZONE
END:VCALENDAR