BEGIN:VCALENDAR
VERSION:2.0
PRODID:-//wp-events-plugin.com//7.2.3.1//EN
TZID:America/Chicago
X-WR-TIMEZONE:America/Chicago
BEGIN:VEVENT
UID:596@bsatroop120.com
DTSTART;TZID=America/Chicago;VALUE=DATE:20220218
DTEND;TZID=America/Chicago;VALUE=DATE:20220221
DTSTAMP:20211210T015125Z
URL:http://bsatroop120.com/events/big-thicket-national-preserve-service-co
 nservation/
SUMMARY:Big Thicket national preserve (service & conservation)
DESCRIPTION:Big Thicket
CATEGORIES:Monthly Campouts
LOCATION:Big Thicket national preserve\, FM 420\, Kountze\, TX\, 77625\, Un
 ited States
X-APPLE-STRUCTURED-LOCATION;VALUE=URI;X-ADDRESS=FM 420\, Kountze\, TX\, 776
 25\, United States;X-APPLE-RADIUS=100;X-TITLE=Big Thicket national preserv
 e:geo:0,0
END:VEVENT
BEGIN:VTIMEZONE
TZID:America/Chicago
X-LIC-LOCATION:America/Chicago
BEGIN:STANDARD
DTSTART:20211107T010000
TZOFFSETFROM:-0500
TZOFFSETTO:-0600
TZNAME:CST
END:STANDARD
END:VTIMEZONE
END:VCALENDAR