BEGIN:VCALENDAR
VERSION:2.0
PRODID:-//wp-events-plugin.com//7.2.3.1//EN
TZID:America/Chicago
X-WR-TIMEZONE:America/Chicago
BEGIN:VEVENT
UID:269@bsatroop120.com
DTSTART;TZID=America/Chicago:20160410T143000
DTEND;TZID=America/Chicago:20160410T163000
DTSTAMP:20160401T021511Z
URL:http://bsatroop120.com/events/automotive/
SUMMARY:Automotive Maintenance Session 3
DESCRIPTION:\n\n&nbsp\;\n\nAutomotive Maintenance MB Worksheet\n\n&nbsp\;\n
 \n&nbsp\;\n\n&nbsp\;\n\nModern automobiles are important to many aspects o
 f American life. Those who service automobiles must understand each princi
 ple\, and how these principles interact to provide smooth\, efficient perf
 ormance. Owners of cars also benefit by understanding how their vehicles o
 perate. This enables them to understand why certain periodic maintenance i
 s required to keep their vehicles in tip-top shape.\n\n[eyesonly level="ad
 ministrator\, adult_leader"]\nView this booking\n[/eyesonly]
CATEGORIES:Merit Badge Opportunity
LOCATION:Danny's House\, 18146 Holly Green Dr\, Houston\, TX\, 77084\, Unit
 ed States
GEO:29.856049;-95.67974900000002
X-APPLE-STRUCTURED-LOCATION;VALUE=URI;X-ADDRESS=18146 Holly Green Dr\, Hous
 ton\, TX\, 77084\, United States;X-APPLE-RADIUS=100;X-TITLE=Danny's House:
 geo:29.856049,-95.67974900000002
END:VEVENT
BEGIN:VTIMEZONE
TZID:America/Chicago
X-LIC-LOCATION:America/Chicago
BEGIN:DAYLIGHT
DTSTART:20160313T030000
TZOFFSETFROM:-0600
TZOFFSETTO:-0500
TZNAME:CDT
END:DAYLIGHT
END:VTIMEZONE
END:VCALENDAR